Workbook

Sheet 20240531
A1: 2024년 5월말 예산집행현황
F2: =F8-E8 -> 0
A3: ♦ 수입부문
A4: 관 | B4: 항 | C4: 목 | D4: 부기 | E4: 4월말 예산액 | F4: 4월말 수입누계 | G4: 5월 수입
A5: 수입 | B5: 의무금 | C5: 노조비 | D5: ◦ 조합원 월 의무금 | E5: 21200000 | F5: ='20240331'!F5+2018450+1384140+2256610+700990 -> 22211400 | G5: 5707520
B6: 잡수입 | C6: 기타 | D6: ◦ 전년도 이월금 / 4월 이월금 | E6: 10672948 | F6: ='20240331'!F6 -> 10672948 | G6: 2441524
D7: ◦ 은행이자 등 | E7: 7052 | F7: ='20240331'!F7+1656 -> 24146 | G7: 1166
B8: 예비비 | C8: 예비비 | D8: ◦ 예비비 | E8: 0 | F8: ='20240131'!F8 -> 0
A9: 계 | E9: =SUM(E5:E8) -> 31880000 | F9: =SUM(F5:F8) -> 32908494 | G9: =SUM(G5:G8) -> 8150210
A12: ♦ 지출부문
A13: 관 | B13: 항 | C13: 목 | D13: 부기 | E13: 4월말 예산액 | F13: 4월말 지출누계 | G13: 5월 지출
A14: 의무금 | B14: 연맹맹비 | C14: 공공연맹의무금 | D14: ◦ 연맹의무금 | E14: 1200000 | F14: ='20240331'!F14+300000 -> 1200000 | G14: 300000
C15: 서울지역본부 의무금 | D15: ◦ 연맹 서울지역본부 의무금 | E15: 400000 | F15: ='20240331'!F15+100000 -> 400000 | G15: 100000
C16: 전해노련 의무금 | D16: ◦ 전해노련 의무금 | E16: 2000000 | F16: ='20240331'!F16 -> 2000000
D17: 소계 | E17: =SUM(E14:E16) -> 3600000 | F17: =SUM(F14:F16) -> 3600000 | H17: =F17-'[1]20210930'!F16 -> 1000000
A18: 운영비 | B18: 운영유지비 | C18: 회의비 | D18: ◦ 대의원대회 회의비 | E18: 3200000 | F18: ='20240331'!F18 -> 3157900
D19: ◦ 상무집행위원 회의비 | E19: 850000 | F19: ='20240331'!F19+218000+189000+46800+76500 -> 831300
D20: ◦ 전해노련, 연맹관련 회의비 | F20: ='20240331'!F20 -> 0
D21: ◦ 노사협의회 회의비용 | E21: 500000 | F21: ='20240331'!F21 -> 497500
D22: 소계 | E22: =SUM(E18:E21) -> 4550000 | F22: =SUM(F18:F21) -> 4486700 | H22: =F22-'[1]20210930'!F22 -> 4120700
C23: 여비교통비 | D23: ◦ 대의원 출장비 | E23: 1750000 | F23: ='20240331'!F23 -> 1730100
D24: ◦ 감사위원 출장비 | F24: ='20240331'!F24 -> 0
D25: ◦ 지회 방문비 및 경조출장비 | E25: 2200000 | F25: ='20240331'!F25+569420 -> 2184020
D26: ◦ 전해노련 및 기타회의 출장비 | E26: 50000 | F26: ='20240331'!F26 -> 36800
D27: ◦ 시내교통비 | E27: 0 | F27: ='20240331'!F27 -> 0
D28: 소계 | E28: =SUM(E23:E27) -> 4000000 | F28: =SUM(F23:F27) -> 3950920 | H28: =F28-'[1]20210930'!F28 -> 956053
C29: 소모품비 | D29: ◦ 사무용품, 투쟁용품 등 구입비 | E29: 50000 | F29: ='20240331'!F29 -> 4800
D30: 소계 | E30: =SUM(E29) -> 50000 | F30: =SUM(F29) -> 4800 | H30: =F30-'[1]20210930'!F30 -> 4800
C31: 도서인쇄비 | D31: ◦ 월간잡지 구독료 등 | E31: 0 | F31: ='20240331'!F31 -> 0
D32: ◦ 기타 유인물 제작 | E32: 0 | F32: ='20240331'!F32 -> 0
D33: 소계 | E33: =SUM(E31:E32) -> 0 | F33: =SUM(F31:F32) -> 0 | H33: =F33-'[1]20210930'!F33 -> 0
C34: 잡 비 | D34: ◦ 내객접대용 차류 구입 | E34: 0 | F34: ='20240331'!F34 -> 0
D35: ◦ 현수막, 노조기 등 제작 | E35: 100000 | F35: ='20240331'!F35 -> 50000
D36: ◦ 기타 비용 | E36: 1130000 | F36: ='20240331'!F36 -> 784300
D37: 소계 | E37: =SUM(E34:E36) -> 1230000 | F37: =SUM(F34:F36) -> 834300 | H37: =F37-'[1]20210930'!F37 -> 685400
A38: 사업비 | B38: 사업비 | C38: 조직비 | D38: ◦ 지회별 노조원 단합비용 | E38: 5000000 | F38: ='20240331'!F38+84000+200000+200000+200000+450000+150000+50000 -> 4974810 | G38: 103500
D39: 소계 | E39: =E38 -> 5000000 | F39: =SUM(F38) -> 4974810 | H39: =F39-'[1]20210930'!F39 -> 2552810
C40: 교육비 | D40: ◦ 교육비 | E40: 0 | F40: ='20240331'!F40 -> 0 | G40: 80000
D41: 소계 | E41: =SUM(E40) -> 0 | F41: =SUM(F40) -> 0 | H41: =F41-'[1]20210831'!F41 -> 0
C42: 행사비 | D42: ◦ 창립 기념 행사 | E42: 0 | F42: ='20240331'!F42 -> 0
D43: ◦ 노동조합출범식 등 | E43: 0 | F43: ='20240331'!F43 -> 0
D44: ◦ 직원자녀 장학금 | E44: 0 | F44: ='20240331'!F44 -> 0
D45: ◦ 명절선물비 | E45: 2000000 | F45: ='20240331'!F45 -> 1866540 | H45: =F45-'[1]20210930'!F45 -> 689940
D46: ◦ 기타 행사비 | E46: 2000000 | F46: ='20240331'!F46 -> 2000000
D47: 소계 | E47: =SUM(E42:E46) -> 4000000
C48: 연대사업비 | D48: ◦ 연대 활동비 | E48: 0 | F48: ='20240331'!F47 -> 0
D49: 소계 | E49: =SUM(E48) -> 0 | F49: =SUM(F42:F48) -> 3866540 | H49: =F49-'[1]20210930'!F47 -> 2689940
B50: 업무추진비 | C50: 활동비 | D50: ◦ 위원장 활동비 | E50: 1400000 | F50: ='20240331'!F49+21500+60000+250000 -> 1366100 | G50: 218900 | H50: =E50-F50 -> 33900
D51: ◦ 부위원장(수석) 활동비 | E51: 1200000 | F51: ='20240331'!F50+60000+23500+42000+40000+22000+19900+105000+120000+155000 -> 1163800 | G51: 114100 | H51: =E51-F51 -> 36200
D52: ◦ 대의원(대표위원) 활동비 | E52: 0 | F52: ='20240331'!F51 -> 0
D53: 소계 | E53: =SUM(E50:E52) -> 2600000 | F53: =SUM(F50:F52) -> 2529900 | H53: =E53-F53 -> 70100
C54: 접대비 | D54: ◦ 대내.외 접대비 | E54: 650000 | F54: ='20240331'!F53+26000+64000+40000+100000+79000 -> 634000 | H54: =E54-F54 -> 16000
D55: 소계 | E55: =SUM(E54) -> 650000 | F55: =SUM(F54) -> 634000 | H55: =E55-F55 -> 16000
C56: 경조비 | D56: ◦ 대내-축하금 | E56: 2000000 | F56: ='20240331'!F55+300000+300000 -> 1800000 | H56: =E56-F56 -> 200000
D57: ◦ 대내-조의금 | E57: 1300000 | F57: ='20240331'!F56+100000+100000 -> 1200000 | G57: 200000 | H57: =E57-F57 -> 100000
D58: ◦ 노조원 출산등 축하용품 | E58: 500000 | F58: ='20240331'!F57 -> 493000 | H58: =E58-F58 -> 7000
D59: ◦ 노조원 퇴직(정년) 등 | E59: 0 | F59: ='20240229'!F58 -> 0 | H59: =E59-F59 -> 0
D60: ◦ 대외-축하 및 경조금 | E60: 200000 | F60: ='20240331'!F59 -> 180000 | H60: =E60-F60 -> 20000
D61: ◦ 화환, 조화 등 구입비 | E61: 1000000 | F61: ='20240331'!F60+54000+54000+64000 -> 712000 | G61: 162000 | H61: =E61-F61 -> 288000
D62: 소계 | E62: =SUM(E56:E61) -> 5000000 | F62: =SUM(F56:F61) -> 4385000 | H62: =E62-F62 -> 615000
A63: 특별회계 | B63: 특별기금 | D63: ◦ 특별기금 적립 | E63: 400000 | F63: ='20240331'!F62+100000 -> 400000 | G63: 100000 | H63: =E63-F63 -> 0
B64: 총회기금 | D64: ◦ 총회기금 적립 | E64: 800000 | F64: ='20240331'!F63+200000 -> 800000 | G64: 200000
D65: 소계 | E65: =SUM(E63:E64) -> 1200000 | F65: =SUM(F63:F64) -> 1200000 | H65: =F65-'[1]20210930'!F63 -> -300000
A66: 예비비 | B66: 예비비 | C66: 예비비 | D66: ◦ 예비비 | F66: 0
A67: 적립금 | B67: 적립금 | C67: 이월적립금 | D67: ◦ 이월적립금 | E67: 0 | F67: 0
A68: 합계 | E68: =E17+E22+E28++E30+E33+E37+E39+E41+E47+E49+E53+E55+E62+E65+E66 -> 31880000 | F68: =F17+F22+F28+F30+F33+F37+F39+F41+F49+F53+F55+F62+F65+F66 -> 30466970 | G68: =SUM(G14:G67) -> 1578500
A70: ♦ 2024년 5월 예산현황
A71: 예산 | B71: 수입 | D71: 지출 | F71: 잔액 현황
B72: 수입액 | C72: 수입율 | D72: 지출액 | E72: 지출율 | F72: 잔액
A73: - | B73: 8150210 | C73: - | D73: 1578500 | E73: - | F73: =B73-D73 -> 6571710

Sheet 20240430
A1: 2024년 4월말 예산집행현황
F2: =F8-E8 -> 0
A3: ♦ 수입부문
A4: 관 | B4: 항 | C4: 목 | D4: 부기 | E4: 예산액 | F4: 수입누계 | G4: 수입율
A5: 수입 | B5: 의무금 | C5: 노조비 | D5: ◦ 조합원 월 의무금 | E5: 21200000 | F5: ='20240331'!F5+2018450+1384140+2256610+700990 -> 22211400 | G5: =F5/E5 -> 1.0477075
B6: 잡수입 | C6: 기타 | D6: ◦ 전년도 이월금 | E6: 10672948 | F6: ='20240331'!F6 -> 10672948
D7: ◦ 은행이자 등 | E7: 7052 | F7: ='20240331'!F7+1656 -> 24146 | G7: =F7/E7 -> 3.4239932
B8: 예비비 | C8: 예비비 | D8: ◦ 예비비 | E8: 0 | F8: ='20240131'!F8 -> 0 | G8: =F8/E8 -> #DIV/0!
A9: 계 | E9: =SUM(E5:E8) -> 31880000 | F9: =SUM(F5:F8) -> 32908494 | G9: =F9/E9 -> 1.0322614
A12: ♦ 지출부문
A13: 관 | B13: 항 | C13: 목 | D13: 부기 | E13: 예산액 | F13: 지출누계 | G13: 지출율
A14: 의무금 | B14: 연맹맹비 | C14: 공공연맹의무금 | D14: ◦ 연맹의무금 | E14: 1200000 | F14: ='20240331'!F14+300000 -> 1200000 | G14: =F14/E14 -> 1
C15: 서울지역본부 의무금 | D15: ◦ 연맹 서울지역본부 의무금 | E15: 400000 | F15: ='20240331'!F15+100000 -> 400000 | G15: =F15/E15 -> 1
C16: 전해노련 의무금 | D16: ◦ 전해노련 의무금 | E16: 2000000 | F16: ='20240331'!F16 -> 2000000 | G16: =F16/E16 -> 1
D17: 소계 | E17: =SUM(E14:E16) -> 3600000 | F17: =SUM(F14:F16) -> 3600000 | G17: =F17/E17 -> 1 | H17: =F17-'[1]20210930'!F16 -> 1000000
A18: 운영비 | B18: 운영유지비 | C18: 회의비 | D18: ◦ 대의원대회 회의비 | E18: 3200000 | F18: ='20240331'!F18 -> 3157900 | G18: =F18/E18 -> 0.98684375
D19: ◦ 상무집행위원 회의비 | E19: 850000 | F19: ='20240331'!F19+218000+189000+46800+76500 -> 831300 | G19: =F19/E19 -> 0.978
D20: ◦ 전해노련, 연맹관련 회의비 | F20: ='20240331'!F20 -> 0 | G20: =F20/E20 -> #DIV/0!
D21: ◦ 노사협의회 회의비용 | E21: 500000 | F21: ='20240331'!F21 -> 497500 | G21: =F21/E21 -> 0.995
D22: 소계 | E22: =SUM(E18:E21) -> 4550000 | F22: =SUM(F18:F21) -> 4486700 | G22: =F22/E22 -> 0.98608791 | H22: =F22-'[1]20210930'!F22 -> 4120700
C23: 여비교통비 | D23: ◦ 대의원 출장비 | E23: 1750000 | F23: ='20240331'!F23 -> 1730100 | G23: =F23/E23 -> 0.98862857
D24: ◦ 감사위원 출장비 | F24: ='20240331'!F24 -> 0 | G24: =F24/E24 -> #DIV/0!
D25: ◦ 지회 방문비 및 경조출장비 | E25: 2200000 | F25: ='20240331'!F25+569420 -> 2184020 | G25: =F25/E25 -> 0.99273636
D26: ◦ 전해노련 및 기타회의 출장비 | E26: 50000 | F26: ='20240331'!F26 -> 36800 | G26: =F26/E26 -> 0.736
D27: ◦ 시내교통비 | E27: 0 | F27: ='20240331'!F27 -> 0 | G27: =F27/E27 -> #DIV/0!
D28: 소계 | E28: =SUM(E23:E27) -> 4000000 | F28: =SUM(F23:F27) -> 3950920 | G28: =F28/E28 -> 0.98773 | H28: =F28-'[1]20210930'!F28 -> 956053
C29: 소모품비 | D29: ◦ 사무용품, 투쟁용품 등 구입비 | E29: 50000 | F29: ='20240331'!F29 -> 4800 | G29: =F29/E29 -> 0.096
D30: 소계 | E30: =SUM(E29) -> 50000 | F30: =SUM(F29) -> 4800 | G30: =F30/E30 -> 0.096 | H30: =F30-'[1]20210930'!F30 -> 4800
C31: 도서인쇄비 | D31: ◦ 월간잡지 구독료 등 | E31: 0 | F31: ='20240331'!F31 -> 0 | G31: =F31/E31 -> #DIV/0!
D32: ◦ 기타 유인물 제작 | E32: 0 | F32: ='20240331'!F32 -> 0 | G32: =F32/E32 -> #DIV/0!
D33: 소계 | E33: =SUM(E31:E32) -> 0 | F33: =SUM(F31:F32) -> 0 | G33: =F33/E33 -> #DIV/0! | H33: =F33-'[1]20210930'!F33 -> 0
C34: 잡 비 | D34: ◦ 내객접대용 차류 구입 | E34: 0 | F34: ='20240331'!F34 -> 0 | G34: =F34/E34 -> #DIV/0!
D35: ◦ 현수막, 노조기 등 제작 | E35: 100000 | F35: ='20240331'!F35 -> 50000 | G35: =F35/E35 -> 0.5
D36: ◦ 기타 비용 | E36: 1130000 | F36: ='20240331'!F36 -> 784300 | G36: =F36/E36 -> 0.6940708
D37: 소계 | E37: =SUM(E34:E36) -> 1230000 | F37: =SUM(F34:F36) -> 834300 | G37: =F37/E37 -> 0.67829268 | H37: =F37-'[1]20210930'!F37 -> 685400
A38: 사업비 | B38: 사업비 | C38: 조직비 | D38: ◦ 지회별 노조원 단합비용 | E38: 5000000 | F38: ='20240331'!F38+84000+200000+200000+200000+450000+150000+50000 -> 4974810 | G38: =F38/E38 -> 0.994962
D39: 소계 | E39: =E38 -> 5000000 | F39: =SUM(F38) -> 4974810 | G39: =F39/E39 -> 0.994962 | H39: =F39-'[1]20210930'!F39 -> 2552810
C40: 교육비 | D40: ◦ 교육비 | E40: 0 | F40: ='20240331'!F40 -> 0 | G40: =F40/E40 -> #DIV/0!
D41: 소계 | E41: =SUM(E40) -> 0 | F41: =SUM(F40) -> 0 | G41: =F41/E41 -> #DIV/0! | H41: =F41-'[1]20210831'!F41 -> 0
C42: 행사비 | D42: ◦ 창립 기념 행사 | E42: 0 | F42: ='20240331'!F42 -> 0 | G42: =F42/E42 -> #DIV/0!
D43: ◦ 노동조합출범식 등 | E43: 0 | F43: ='20240331'!F43 -> 0 | G43: =F43/E43 -> #DIV/0!
D44: ◦ 직원자녀 장학금 | E44: 0 | F44: ='20240331'!F44 -> 0 | G44: =F44/E44 -> #DIV/0!
D45: ◦ 명절선물비 | E45: 2000000 | F45: ='20240331'!F45 -> 1866540 | G45: =F45/E45 -> 0.93327 | H45: =F45-'[1]20210930'!F45 -> 689940
D46: ◦ 기타 행사비 | E46: 2000000 | F46: ='20240331'!F46 -> 2000000 | G46: =F46/E46 -> 1
D47: 소계 | E47: =SUM(E42:E46) -> 4000000
C48: 연대사업비 | D48: ◦ 연대 활동비 | E48: 0 | F48: ='20240331'!F47 -> 0 | G48: =F48/E48 -> #DIV/0!
D49: 소계 | E49: =SUM(E48) -> 0 | F49: =SUM(F42:F48) -> 3866540 | G49: =F49/E49 -> #DIV/0! | H49: =F49-'[1]20210930'!F47 -> 2689940
B50: 업무추진비 | C50: 활동비 | D50: ◦ 위원장 활동비 | E50: 1400000 | F50: ='20240331'!F49+21500+60000+250000 -> 1366100 | G50: =F50/E50 -> 0.97578571 | H50: =E50-F50 -> 33900
D51: ◦ 부위원장(수석) 활동비 | E51: 1200000 | F51: ='20240331'!F50+60000+23500+42000+40000+22000+19900+105000+120000+155000 -> 1163800 | G51: =F51/E51 -> 0.96983333 | H51: =E51-F51 -> 36200
D52: ◦ 대의원(대표위원) 활동비 | E52: 0 | F52: ='20240331'!F51 -> 0 | G52: =F52/E52 -> #DIV/0!
D53: 소계 | E53: =SUM(E50:E52) -> 2600000 | F53: =SUM(F50:F52) -> 2529900 | G53: =F53/E53 -> 0.97303846 | H53: =E53-F53 -> 70100
C54: 접대비 | D54: ◦ 대내.외 접대비 | E54: 650000 | F54: ='20240331'!F53+26000+64000+40000+100000+79000 -> 634000 | G54: =F54/E54 -> 0.97538462 | H54: =E54-F54 -> 16000
D55: 소계 | E55: =SUM(E54) -> 650000 | F55: =SUM(F54) -> 634000 | G55: =F55/E55 -> 0.97538462 | H55: =E55-F55 -> 16000
C56: 경조비 | D56: ◦ 대내-축하금 | E56: 2000000 | F56: ='20240331'!F55+300000+300000 -> 1800000 | G56: =F56/E56 -> 0.9 | H56: =E56-F56 -> 200000
D57: ◦ 대내-조의금 | E57: 1300000 | F57: ='20240331'!F56+100000+100000 -> 1200000 | G57: =F57/E57 -> 0.92307692 | H57: =E57-F57 -> 100000
D58: ◦ 노조원 출산등 축하용품 | E58: 500000 | F58: ='20240331'!F57 -> 493000 | G58: =F58/E58 -> 0.986 | H58: =E58-F58 -> 7000
D59: ◦ 노조원 퇴직(정년) 등 | E59: 0 | F59: ='20240229'!F58 -> 0 | G59: =F59/E59 -> #DIV/0! | H59: =E59-F59 -> 0
D60: ◦ 대외-축하 및 경조금 | E60: 200000 | F60: ='20240331'!F59 -> 180000 | G60: =F60/E60 -> 0.9 | H60: =E60-F60 -> 20000
D61: ◦ 화환, 조화 등 구입비 | E61: 1000000 | F61: ='20240331'!F60+54000+54000+64000 -> 712000 | G61: =F61/E61 -> 0.712 | H61: =E61-F61 -> 288000
D62: 소계 | E62: =SUM(E56:E61) -> 5000000 | F62: =SUM(F56:F61) -> 4385000 | G62: =F62/E62 -> 0.877 | H62: =E62-F62 -> 615000
A63: 특별회계 | B63: 특별기금 | D63: ◦ 특별기금 적립 | E63: 400000 | F63: ='20240331'!F62+100000 -> 400000 | G63: =F63/E63 -> 1 | H63: =E63-F63 -> 0
B64: 총회기금 | D64: ◦ 총회기금 적립 | E64: 800000 | F64: ='20240331'!F63+200000 -> 800000 | G64: =F64/E64 -> 1
D65: 소계 | E65: =SUM(E63:E64) -> 1200000 | F65: =SUM(F63:F64) -> 1200000 | G65: =F65/E65 -> 1 | H65: =F65-'[1]20210930'!F63 -> -300000
A66: 예비비 | B66: 예비비 | C66: 예비비 | D66: ◦ 예비비 | F66: 0 | G66: =F66/E66 -> #DIV/0!
A67: 적립금 | B67: 적립금 | C67: 이월적립금 | D67: ◦ 이월적립금 | E67: 0 | F67: 0
A68: 합계 | E68: =E17+E22+E28++E30+E33+E37+E39+E41+E47+E49+E53+E55+E62+E65+E66 -> 31880000 | F68: =F17+F22+F28+F30+F33+F37+F39+F41+F49+F53+F55+F62+F65+F66 -> 30466970 | G68: =F68/E68 -> 0.9556766
A70: ♦ 2024년 4월말 예산현황
A71: 예산 | B71: 수입 | D71: 지출 | F71: 잔액 현황
B72: 수입액 | C72: 수입율 | D72: 지출액 | E72: 지출율 | F72: 잔액
A73: =E9 -> 31880000 | B73: =+F9 -> 32908494 | C73: =+G9 -> 1.0322614 | D73: =+F68 -> 30466970 | E73: =+G68 -> 0.9556766 | F73: =B73-D73 -> 2441524

Sheet 20240331
A1: 2024년 3월말 예산집행현황
F2: =F8-E8 -> 0
A3: ♦ 수입부문
A4: 관 | B4: 항 | C4: 목 | D4: 부기 | E4: 예산액 | F4: 수입누계 | G4: 수입율
A5: 수입 | B5: 의무금 | C5: 노조비 | D5: ◦ 조합원 월 의무금 | E5: 21200000 | F5: ='20240229'!F5+1623790+1159040+1773360+592980 -> 15851210 | G5: =F5/E5 -> 0.74769858
B6: 잡수입 | C6: 기타 | D6: ◦ 전년도 이월금 | E6: 10672948 | F6: ='20240229'!F6 -> 10672948
D7: ◦ 은행이자 등 | E7: 7052 | F7: ='20240229'!F7+2262+8962 -> 22490 | G7: =F7/E7 -> 3.1891662
B8: 예비비 | C8: 예비비 | D8: ◦ 예비비 | E8: 0 | F8: ='20240131'!F8 -> 0 | G8: =F8/E8 -> #DIV/0!
A9: 계 | E9: =SUM(E5:E8) -> 31880000 | F9: =SUM(F5:F8) -> 26546648 | G9: =F9/E9 -> 0.8327054
A12: ♦ 지출부문
A13: 관 | B13: 항 | C13: 목 | D13: 부기 | E13: 예산액 | F13: 지출누계 | G13: 지출율
A14: 의무금 | B14: 연맹맹비 | C14: 공공연맹의무금 | D14: ◦ 연맹의무금 | E14: 1200000 | F14: ='20240229'!F14+600000+300000 -> 900000 | G14: =F14/E14 -> 0.75
C15: 서울지역본부 의무금 | D15: ◦ 연맹 서울지역본부 의무금 | E15: 400000 | F15: ='20240229'!F15+200000+100000 -> 300000 | G15: =F15/E15 -> 0.75
C16: 전해노련 의무금 | D16: ◦ 전해노련 의무금 | E16: 2000000 | F16: ='20240229'!F16 -> 2000000 | G16: =F16/E16 -> 1
D17: 소계 | E17: =SUM(E14:E16) -> 3600000 | F17: =SUM(F14:F16) -> 3200000 | G17: =F17/E17 -> 0.88888889 | H17: =F17-'[1]20210930'!F16 -> 600000
A18: 운영비 | B18: 운영유지비 | C18: 회의비 | D18: ◦ 대의원대회 회의비 | E18: 3000000 | F18: ='20240229'!F18 -> 3157900 | G18: =F18/E18 -> 1.0526333
D19: ◦ 상무집행위원 회의비 | E19: 300000 | F19: ='20240229'!F19 -> 301000 | G19: =F19/E19 -> 1.0033333
D20: ◦ 전해노련, 연맹관련 회의비 | F20: ='20240229'!F20 -> 0 | G20: =F20/E20 -> #DIV/0!
D21: ◦ 노사협의회 회의비용 | E21: 500000 | F21: ='20240229'!F21 -> 497500 | G21: =F21/E21 -> 0.995
D22: 소계 | E22: =SUM(E18:E21) -> 3800000 | F22: =SUM(F18:F21) -> 3956400 | G22: =F22/E22 -> 1.0411579 | H22: =F22-'[1]20210930'!F22 -> 3590400
C23: 여비교통비 | D23: ◦ 대의원 출장비 | E23: 2000000 | F23: ='20240229'!F23 -> 1730100 | G23: =F23/E23 -> 0.86505
D24: ◦ 감사위원 출장비 | F24: ='20240229'!F24 -> 0 | G24: =F24/E24 -> #DIV/0!
D25: ◦ 지회 방문비 및 경조출장비 | E25: 1200000 | F25: ='20240229'!F25+1135200+394400 -> 1614600 | G25: =F25/E25 -> 1.3455
D26: ◦ 전해노련 및 기타회의 출장비 | E26: 300000 | F26: ='20240229'!F26 -> 36800 | G26: =F26/E26 -> 0.12266667
D27: ◦ 시내교통비 | E27: 50000 | F27: ='20240229'!F27 -> 0 | G27: =F27/E27 -> 0
D28: 소계 | E28: =SUM(E23:E27) -> 3550000 | F28: =SUM(F23:F27) -> 3381500 | G28: =F28/E28 -> 0.95253521 | H28: =F28-'[1]20210930'!F28 -> 386633
C29: 소모품비 | D29: ◦ 사무용품, 투쟁용품 등 구입비 | E29: 50000 | F29: ='20240229'!F29 -> 4800 | G29: =F29/E29 -> 0.096
D30: 소계 | E30: =SUM(E29) -> 50000 | F30: =SUM(F29) -> 4800 | G30: =F30/E30 -> 0.096 | H30: =F30-'[1]20210930'!F30 -> 4800
C31: 도서인쇄비 | D31: ◦ 월간잡지 구독료 등 | E31: 0 | F31: ='20240229'!F31 -> 0 | G31: =F31/E31 -> #DIV/0!
D32: ◦ 기타 유인물 제작 | E32: 50000 | F32: ='20240229'!F32 -> 0 | G32: =F32/E32 -> 0
D33: 소계 | E33: =SUM(E31:E32) -> 50000 | F33: =SUM(F31:F32) -> 0 | G33: =F33/E33 -> 0 | H33: =F33-'[1]20210930'!F33 -> 0
C34: 잡 비 | D34: ◦ 내객접대용 차류 구입 | E34: 200000 | F34: ='20240229'!F34 -> 0 | G34: =F34/E34 -> 0
D35: ◦ 현수막, 노조기 등 제작 | E35: 100000 | F35: ='20240229'!F35 -> 50000 | G35: =F35/E35 -> 0.5
D36: ◦ 기타 비용 | E36: 1180000 | F36: ='20240229'!F36+112200+200000+188100 -> 784300 | G36: =F36/E36 -> 0.66466102
D37: 소계 | E37: =SUM(E34:E36) -> 1480000 | F37: =SUM(F34:F36) -> 834300 | G37: =F37/E37 -> 0.56371622 | H37: =F37-'[1]20210930'!F37 -> 685400
A38: 사업비 | B38: 사업비 | C38: 조직비 | D38: ◦ 지회별 노조원 단합비용 | E38: 2500000 | F38: ='20240229'!F38 -> 3640810 | G38: =F38/E38 -> 1.456324
D39: 소계 | E39: =SUM(E38:E38) -> 2500000 | F39: =SUM(F38) -> 3640810 | G39: =F39/E39 -> 1.456324 | H39: =F39-'[1]20210930'!F39 -> 1218810
C40: 교육비 | D40: ◦ 교육비 | E40: 0 | F40: ='20240229'!F40 -> 0 | G40: =F40/E40 -> #DIV/0!
D41: 소계 | E41: =SUM(E40) -> 0 | F41: =SUM(F40) -> 0 | G41: =F41/E41 -> #DIV/0! | H41: =F41-'[1]20210831'!F41 -> 0
C42: 행사비 | D42: ◦ 창립 기념 행사 | E42: 0 | F42: ='20240229'!F42 -> 0 | G42: =F42/E42 -> #DIV/0!
D43: ◦ 노동조합출범식 등 | E43: 0 | F43: ='20240229'!F43 -> 0 | G43: =F43/E43 -> #DIV/0!
D44: ◦ 직원자녀 장학금 | E44: 0 | F44: ='20240229'!F44 -> 0 | G44: =F44/E44 -> #DIV/0!
D45: ◦ 명절선물비 | E45: 2000000 | F45: ='20240229'!F45 -> 1866540 | G45: =F45/E45 -> 0.93327 | H45: =F45-'[1]20210930'!F45 -> 689940
D46: ◦ 기타 행사비 | E46: 2000000 | F46: ='20240229'!F46+1000000+1000000 -> 2000000 | G46: =F46/E46 -> 1
C47: 연대사업비 | D47: ◦ 연대 활동비 | E47: 400000 | F47: ='20240229'!F47 -> 0 | G47: =F47/E47 -> 0
D48: 소계 | E48: =SUM(E42:E47) -> 4400000 | F48: =SUM(F42:F47) -> 3866540 | G48: =F48/E48 -> 0.87875909 | H48: =F48-'[1]20210930'!F47 -> 2689940
B49: 업무추진비 | C49: 활동비 | D49: ◦ 위원장 활동비 | E49: 1000000 | F49: ='20240229'!F49+139000+97000 -> 1034600 | G49: =F49/E49 -> 1.0346 | H49: =E49-F49 -> -34600
D50: ◦ 부위원장(수석) 활동비 | E50: 800000 | F50: ='20240229'!F50+49800+59000+59500 -> 576400 | G50: =F50/E50 -> 0.7205 | H50: =E50-F50 -> 223600
D51: ◦ 대의원(대표위원) 활동비 | E51: 2750000 | F51: ='20240229'!F51 -> 0 | G51: =F51/E51 -> 0
D52: 소계 | E52: =SUM(E49:E51) -> 4550000 | F52: =SUM(F49:F51) -> 1611000 | G52: =F52/E52 -> 0.35406593 | H52: =E52-F52 -> 2939000
C53: 접대비 | D53: ◦ 대내.외 접대비 | E53: 400000 | F53: ='20240229'!F53 -> 325000 | G53: =F53/E53 -> 0.8125 | H53: =E53-F53 -> 75000
D54: 소계 | E54: =SUM(E53) -> 400000 | F54: =SUM(F53) -> 325000 | G54: =F54/E54 -> 0.8125 | H54: =E54-F54 -> 75000
C55: 경조비 | D55: ◦ 대내-축하금 | E55: 2000000 | F55: ='20240229'!F55+300000+300000+300000 -> 1200000 | G55: =F55/E55 -> 0.6 | H55: =E55-F55 -> 800000
D56: ◦ 대내-조의금 | E56: 2000000 | F56: ='20240229'!F56+100000+100000 -> 1000000 | G56: =F56/E56 -> 0.5 | H56: =E56-F56 -> 1000000
D57: ◦ 노조원 출산등 축하용품 | E57: 300000 | F57: ='20240229'!F57+204000 -> 493000 | G57: =F57/E57 -> 1.6433333 | H57: =E57-F57 -> -193000
D58: ◦ 노조원 퇴직(정년) 등 | E58: 0 | F58: ='20240229'!F58 -> 0 | G58: =F58/E58 -> #DIV/0! | H58: =E58-F58 -> 0
D59: ◦ 대외-축하 및 경조금 | E59: 1000000 | F59: ='20240229'!F59+80000 -> 180000 | G59: =F59/E59 -> 0.18 | H59: =E59-F59 -> 820000
D60: ◦ 화환, 조화 등 구입비 | E60: 1000000 | F60: ='20240229'!F60+54000+108000+54000 -> 540000 | G60: =F60/E60 -> 0.54 | H60: =E60-F60 -> 460000
D61: 소계 | E61: =SUM(E55:E60) -> 6300000 | F61: =SUM(F55:F60) -> 3413000 | G61: =F61/E61 -> 0.54174603 | H61: =E61-F61 -> 2887000
A62: 특별회계 | B62: 특별기금 | D62: ◦ 특별기금 적립 | E62: 400000 | F62: ='20240229'!F62+100000+100000+100000 -> 300000 | G62: =F62/E62 -> 0.75 | H62: =E62-F62 -> 100000
B63: 총회기금 | D63: ◦ 총회기금 적립 | E63: 800000 | F63: ='20240229'!F63+200000+200000+200000 -> 600000 | G63: =F63/E63 -> 0.75
D64: 소계 | E64: =SUM(E62:E63) -> 1200000 | F64: =SUM(F62:F63) -> 900000 | G64: =F64/E64 -> 0.75 | H64: =F64-'[1]20210930'!F63 -> -600000
A65: 예비비 | B65: 예비비 | C65: 예비비 | D65: ◦ 예비비 | F65: 0 | G65: =F65/E65 -> #DIV/0!
A66: 적립금 | B66: 적립금 | C66: 이월적립금 | D66: ◦ 이월적립금 | E66: 0 | F66: 0
A67: 합계 | E67: =E17+E22+E28++E30+E33+E37+E39+E41+E48+E52+E54+E61+E64+E65 -> 31880000 | F67: =F17+F22+F28+F30+F33+F37+F39+F41+F48+F52+F54+F61+F64+F65 -> 25133350 | G67: =F67/E67 -> 0.78837359
A69: ♦ 2024년 3월말 예산현황
A70: 예산 | B70: 수입 | D70: 지출 | F70: 잔액 현황
B71: 수입액 | C71: 수입율 | D71: 지출액 | E71: 지출율 | F71: 잔액
A72: =E9 -> 31880000 | B72: =+F9 -> 26546648 | C72: =+G9 -> 0.8327054 | D72: =+F67 -> 25133350 | E72: =+G67 -> 0.78837359 | F72: =B72-D72 -> 1413298

Sheet 20240229
A1: 2024년 2월말 예산집행현황
F2: =F8-E8 -> 0
A3: ♦ 수입부문
A4: 관 | B4: 항 | C4: 목 | D4: 부기 | E4: 예산액 | F4: 수입누계 | G4: 수입율
A5: 수입 | B5: 의무금 | C5: 노조비 | D5: ◦ 조합원 월 의무금 | E5: 21200000 | F5: ='20240131'!F5+592980+1617380+1988060+180250+314950+663840 -> 10702040 | G5: =F5/E5 -> 0.50481321
B6: 잡수입 | C6: 기타 | D6: ◦ 전년도 이월금 | E6: 10672948 | F6: ='20240131'!F6 -> 10672948
D7: ◦ 은행이자 등 | E7: 7052 | F7: ='20240131'!F7+6138 -> 11266 | G7: =F7/E7 -> 1.597561
B8: 예비비 | C8: 예비비 | D8: ◦ 예비비 | E8: 0 | F8: ='20240131'!F8 -> 0 | G8: =F8/E8 -> #DIV/0!
A9: 계 | E9: =SUM(E5:E8) -> 31880000 | F9: =SUM(F5:F8) -> 21386254 | G9: =F9/E9 -> 0.67083607
A12: ♦ 지출부문
A13: 관 | B13: 항 | C13: 목 | D13: 부기 | E13: 예산액 | F13: 지출누계 | G13: 지출율
A14: 의무금 | B14: 연맹맹비 | C14: 공공연맹의무금 | D14: ◦ 연맹의무금 | E14: 1200000 | F14: ='20240131'!F14 -> 0 | G14: =F14/E14 -> 0
C15: 서울지역본부 의무금 | D15: ◦ 연맹 서울지역본부 의무금 | E15: 400000 | F15: ='20240131'!F15 -> 0 | G15: =F15/E15 -> 0
C16: 전해노련 의무금 | D16: ◦ 전해노련 의무금 | E16: 2000000 | F16: ='20240131'!F16 -> 2000000 | G16: =F16/E16 -> 1
D17: 소계 | E17: =SUM(E14:E16) -> 3600000 | F17: =SUM(F14:F16) -> 2000000 | G17: =F17/E17 -> 0.55555556 | H17: =F17-'[1]20210930'!F16 -> -600000
A18: 운영비 | B18: 운영유지비 | C18: 회의비 | D18: ◦ 대의원대회 회의비 | E18: 3000000 | F18: ='20240131'!F18+1586900+183000 -> 3157900 | G18: =F18/E18 -> 1.0526333
D19: ◦ 상무집행위원 회의비 | E19: 300000 | F19: ='20240131'!F19 -> 301000 | G19: =F19/E19 -> 1.0033333
D20: ◦ 전해노련, 연맹관련 회의비 | F20: ='20240131'!F20 -> 0 | G20: =F20/E20 -> #DIV/0!
D21: ◦ 노사협의회 회의비용 | E21: 500000 | F21: ='20240131'!F21 -> 497500 | G21: =F21/E21 -> 0.995
D22: 소계 | E22: =SUM(E18:E21) -> 3800000 | F22: =SUM(F18:F21) -> 3956400 | G22: =F22/E22 -> 1.0411579 | H22: =F22-'[1]20210930'!F22 -> 3590400
C23: 여비교통비 | D23: ◦ 대의원 출장비 | E23: 2000000 | F23: ='20240131'!F23+121600+56800+99800+93600+159600+70000+150400+40000+129900+169800+99800+67800+151800+159600+159600 -> 1730100 | G23: =F23/E23 -> 0.86505
D24: ◦ 감사위원 출장비 | F24: ='20240131'!F24 -> 0 | G24: =F24/E24 -> #DIV/0!
D25: ◦ 지회 방문비 및 경조출장비 | E25: 1200000 | F25: ='20240131'!F25+25000+60000 -> 85000 | G25: =F25/E25 -> 0.070833333
D26: ◦ 전해노련 및 기타회의 출장비 | E26: 300000 | F26: ='20240131'!F26 -> 36800 | G26: =F26/E26 -> 0.12266667
D27: ◦ 시내교통비 | E27: 50000 | F27: ='20240131'!F27 -> 0 | G27: =F27/E27 -> 0
D28: 소계 | E28: =SUM(E23:E27) -> 3550000 | F28: =SUM(F23:F27) -> 1851900 | G28: =F28/E28 -> 0.52166197 | H28: =F28-'[1]20210930'!F28 -> -1142967
C29: 소모품비 | D29: ◦ 사무용품, 투쟁용품 등 구입비 | E29: 50000 | F29: ='20240131'!F29 -> 4800 | G29: =F29/E29 -> 0.096
D30: 소계 | E30: =SUM(E29) -> 50000 | F30: =SUM(F29) -> 4800 | G30: =F30/E30 -> 0.096 | H30: =F30-'[1]20210930'!F30 -> 4800
C31: 도서인쇄비 | D31: ◦ 월간잡지 구독료 등 | E31: 0 | F31: ='20240131'!F31 -> 0 | G31: =F31/E31 -> #DIV/0!
D32: ◦ 기타 유인물 제작 | E32: 50000 | F32: ='20240131'!F32 -> 0 | G32: =F32/E32 -> 0
D33: 소계 | E33: =SUM(E31:E32) -> 50000 | F33: =SUM(F31:F32) -> 0 | G33: =F33/E33 -> 0 | H33: =F33-'[1]20210930'!F33 -> 0
C34: 잡 비 | D34: ◦ 내객접대용 차류 구입 | E34: 200000 | F34: ='20240131'!F34 -> 0 | G34: =F34/E34 -> 0
D35: ◦ 현수막, 노조기 등 제작 | E35: 100000 | F35: ='20240131'!F35 -> 50000 | G35: =F35/E35 -> 0.5
D36: ◦ 기타 비용 | E36: 1180000 | F36: ='20240131'!F36+255000 -> 284000 | G36: =F36/E36 -> 0.24067797
D37: 소계 | E37: =SUM(E34:E36) -> 1480000 | F37: =SUM(F34:F36) -> 334000 | G37: =F37/E37 -> 0.22567568 | H37: =F37-'[1]20210930'!F37 -> 185100
A38: 사업비 | B38: 사업비 | C38: 조직비 | D38: ◦ 지회별 노조원 단합비용 | E38: 2500000 | F38: ='20240131'!F38+200000+156000+150000+57300+38610+141000+212000+73000+235000+74000+240000+127500+199000+84000 -> 3640810 | G38: =F38/E38 -> 1.456324
D39: 소계 | E39: =SUM(E38:E38) -> 2500000 | F39: =SUM(F38) -> 3640810 | G39: =F39/E39 -> 1.456324 | H39: =F39-'[1]20210930'!F39 -> 1218810
C40: 교육비 | D40: ◦ 교육비 | E40: 0 | F40: ='20240131'!F40 -> 0 | G40: =F40/E40 -> #DIV/0!
D41: 소계 | E41: =SUM(E40) -> 0 | F41: =SUM(F40) -> 0 | G41: =F41/E41 -> #DIV/0! | H41: =F41-'[1]20210831'!F41 -> 0
C42: 행사비 | D42: ◦ 창립 기념 행사 | E42: 0 | F42: ='20240131'!F42 -> 0 | G42: =F42/E42 -> #DIV/0!
D43: ◦ 노동조합출범식 등 | E43: 0 | F43: ='20240131'!F43 -> 0 | G43: =F43/E43 -> #DIV/0!
D44: ◦ 직원자녀 장학금 | E44: 0 | F44: ='20240131'!F44 -> 0 | G44: =F44/E44 -> #DIV/0!
D45: ◦ 명절선물비 | E45: 2000000 | F45: ='20240131'!F45 -> 1866540 | G45: =F45/E45 -> 0.93327 | H45: =F45-'[1]20210930'!F45 -> 689940
D46: ◦ 기타 행사비 | E46: 2000000 | F46: ='20240131'!F46 -> 0 | G46: =F46/E46 -> 0
C47: 연대사업비 | D47: ◦ 연대 활동비 | E47: 400000 | F47: ='20240131'!F47 -> 0 | G47: =F47/E47 -> 0
D48: 소계 | E48: =SUM(E42:E47) -> 4400000 | F48: =SUM(F42:F47) -> 1866540 | G48: =F48/E48 -> 0.42421364 | H48: =F48-'[1]20210930'!F47 -> 689940
B49: 업무추진비 | C49: 활동비 | D49: ◦ 위원장 활동비 | E49: 1000000 | F49: ='20240131'!F49+77000+56000+25000+18000+33000+89800+53000 -> 798600 | G49: =F49/E49 -> 0.7986 | H49: =E49-F49 -> 201400
D50: ◦ 부위원장(수석) 활동비 | E50: 800000 | F50: ='20240131'!F50+36500+100000+13600 -> 408100 | G50: =F50/E50 -> 0.510125 | H50: =E50-F50 -> 391900
D51: ◦ 대의원(대표위원) 활동비 | E51: 2750000 | F51: ='20240131'!F51 -> 0 | G51: =F51/E51 -> 0
D52: 소계 | E52: =SUM(E49:E51) -> 4550000 | F52: =SUM(F49:F51) -> 1206700 | G52: =F52/E52 -> 0.26520879 | H52: =E52-F52 -> 3343300
C53: 접대비 | D53: ◦ 대내.외 접대비 | E53: 400000 | F53: ='20240131'!F53 -> 325000 | G53: =F53/E53 -> 0.8125 | H53: =E53-F53 -> 75000
D54: 소계 | E54: =SUM(E53) -> 400000 | F54: =SUM(F53) -> 325000 | G54: =F54/E54 -> 0.8125 | H54: =E54-F54 -> 75000
C55: 경조비 | D55: ◦ 대내-축하금 | E55: 2000000 | F55: ='20240131'!F55 -> 300000 | G55: =F55/E55 -> 0.15 | H55: =E55-F55 -> 1700000
D56: ◦ 대내-조의금 | E56: 2000000 | F56: ='20240131'!F56+500000+100000+100000 -> 800000 | G56: =F56/E56 -> 0.4 | H56: =E56-F56 -> 1200000
D57: ◦ 노조원 출산등 축하용품 | E57: 300000 | F57: ='20240131'!F57+99000 -> 289000 | G57: =F57/E57 -> 0.96333333 | H57: =E57-F57 -> 11000
D58: ◦ 노조원 퇴직(정년) 등 | E58: 0 | F58: ='20240131'!F58 -> 0 | G58: =F58/E58 -> #DIV/0! | H58: =E58-F58 -> 0
D59: ◦ 대외-축하 및 경조금 | E59: 1000000 | F59: ='20240131'!F59 -> 100000 | G59: =F59/E59 -> 0.1 | H59: =E59-F59 -> 900000
D60: ◦ 화환, 조화 등 구입비 | E60: 1000000 | F60: ='20240131'!F60+54000+54000+54000+54000+54000 -> 324000 | G60: =F60/E60 -> 0.324 | H60: =E60-F60 -> 676000
D61: 소계 | E61: =SUM(E55:E60) -> 6300000 | F61: =SUM(F55:F60) -> 1813000 | G61: =F61/E61 -> 0.28777778 | H61: =E61-F61 -> 4487000
A62: 특별회계 | B62: 특별기금 | D62: ◦ 특별기금 적립 | E62: 400000 | F62: ='20240131'!F62 -> 0 | G62: =F62/E62 -> 0 | H62: =E62-F62 -> 400000
B63: 총회기금 | D63: ◦ 총회기금 적립 | E63: 800000 | F63: ='20240131'!F63 -> 0 | G63: =F63/E63 -> 0
D64: 소계 | E64: =SUM(E62:E63) -> 1200000 | F64: =SUM(F62:F63) -> 0 | G64: =F64/E64 -> 0 | H64: =F64-'[1]20210930'!F63 -> -1500000
A65: 예비비 | B65: 예비비 | C65: 예비비 | D65: ◦ 예비비 | F65: 0 | G65: =F65/E65 -> #DIV/0!
A66: 적립금 | B66: 적립금 | C66: 이월적립금 | D66: ◦ 이월적립금 | E66: 0 | F66: 0
A67: 합계 | E67: =E17+E22+E28++E30+E33+E37+E39+E41+E48+E52+E54+E61+E64+E65 -> 31880000 | F67: =F17+F22+F28+F30+F33+F37+F39+F41+F48+F52+F54+F61+F64+F65 -> 16999150 | G67: =F67/E67 -> 0.53322302
A69: ♦ 2024년 2월말 예산현황
A70: 예산 | B70: 수입 | D70: 지출 | F70: 잔액 현황
B71: 수입액 | C71: 수입율 | D71: 지출액 | E71: 지출율 | F71: 잔액
A72: =E9 -> 31880000 | B72: =+F9 -> 21386254 | C72: =+G9 -> 0.67083607 | D72: =+F67 -> 16999150 | E72: =+G67 -> 0.53322302 | F72: =B72-D72 -> 4387104

Sheet 20240131
A1: 2024년 1월말 예산집행현황
F2: =F8-E8 -> 0
A3: ♦ 수입부문
A4: 관 | B4: 항 | C4: 목 | D4: 부기 | E4: 예산액 | F4: 수입누계 | G4: 수입율
A5: 수입 | B5: 의무금 | C5: 노조비 | D5: ◦ 조합원 월 의무금 | E5: 21200000 | F5: 5344580 | G5: =F5/E5 -> 0.25210283
B6: 잡수입 | C6: 기타 | D6: ◦ 전년도 이월금 | E6: 10672948 | F6: 10672948
D7: ◦ 은행이자 등 | E7: 7052 | F7: 5128 | G7: =F7/E7 -> 0.7271696
B8: 예비비 | C8: 예비비 | D8: ◦ 예비비 | E8: 0 | F8: ='[2]20231130'!F8 -> 0 | G8: =F8/E8 -> #DIV/0!
A9: 계 | E9: =SUM(E5:E8) -> 31880000 | F9: =SUM(F5:F8) -> 16022656 | G9: =F9/E9 -> 0.50259272
A12: ♦ 지출부문
A13: 관 | B13: 항 | C13: 목 | D13: 부기 | E13: 예산액 | F13: 지출누계 | G13: 지출율
A14: 의무금 | B14: 연맹맹비 | C14: 공공연맹의무금 | D14: ◦ 연맹의무금 | E14: 1200000 | F14: 0 | G14: =F14/E14 -> 0
C15: 서울지역본부 의무금 | D15: ◦ 연맹 서울지역본부 의무금 | E15: 400000 | F15: 0 | G15: =F15/E15 -> 0
C16: 전해노련 의무금 | D16: ◦ 전해노련 의무금 | E16: 2000000 | F16: 2000000 | G16: =F16/E16 -> 1
D17: 소계 | E17: =SUM(E14:E16) -> 3600000 | F17: =SUM(F14:F16) -> 2000000 | G17: =F17/E17 -> 0.55555556 | H17: =F17-'[1]20210930'!F16 -> -600000
A18: 운영비 | B18: 운영유지비 | C18: 회의비 | D18: ◦ 대의원대회 회의비 | E18: 3000000 | F18: =118000+1270000 -> 1388000 | G18: =F18/E18 -> 0.46266667
D19: ◦ 상무집행위원 회의비 | E19: 300000 | F19: 301000 | G19: =F19/E19 -> 1.0033333
D20: ◦ 전해노련, 연맹관련 회의비 | G20: =F20/E20 -> #DIV/0!
D21: ◦ 노사협의회 회의비용 | E21: 500000 | F21: =76000+209000+168000+44500 -> 497500 | G21: =F21/E21 -> 0.995
D22: 소계 | E22: =SUM(E18:E21) -> 3800000 | F22: =SUM(F18:F21) -> 2186500 | G22: =F22/E22 -> 0.57539474 | H22: =F22-'[1]20210930'!F22 -> 1820500
C23: 여비교통비 | D23: ◦ 대의원 출장비 | E23: 2000000 | G23: =F23/E23 -> 0
D24: ◦ 감사위원 출장비 | G24: =F24/E24 -> #DIV/0!
D25: ◦ 지회 방문비 및 경조출장비 | E25: 1200000 | G25: =F25/E25 -> 0
D26: ◦ 전해노련 및 기타회의 출장비 | E26: 300000 | F26: =14100+11100+11600 -> 36800 | G26: =F26/E26 -> 0.12266667
D27: ◦ 시내교통비 | E27: 50000 | G27: =F27/E27 -> 0
D28: 소계 | E28: =SUM(E23:E27) -> 3550000 | F28: =SUM(F23:F27) -> 36800 | G28: =F28/E28 -> 0.010366197 | H28: =F28-'[1]20210930'!F28 -> -2958067
C29: 소모품비 | D29: ◦ 사무용품, 투쟁용품 등 구입비 | E29: 50000 | F29: 4800 | G29: =F29/E29 -> 0.096
D30: 소계 | E30: =SUM(E29) -> 50000 | F30: =SUM(F29) -> 4800 | G30: =F30/E30 -> 0.096 | H30: =F30-'[1]20210930'!F30 -> 4800
C31: 도서인쇄비 | D31: ◦ 월간잡지 구독료 등 | E31: 0 | G31: =F31/E31 -> #DIV/0!
D32: ◦ 기타 유인물 제작 | E32: 50000 | G32: =F32/E32 -> 0
D33: 소계 | E33: =SUM(E31:E32) -> 50000 | F33: =SUM(F31:F32) -> 0 | G33: =F33/E33 -> 0 | H33: =F33-'[1]20210930'!F33 -> 0
C34: 잡 비 | D34: ◦ 내객접대용 차류 구입 | E34: 200000 | G34: =F34/E34 -> 0
D35: ◦ 현수막, 노조기 등 제작 | E35: 100000 | F35: 50000 | G35: =F35/E35 -> 0.5
D36: ◦ 기타 비용 | E36: 1180000 | F36: 29000 | G36: =F36/E36 -> 0.024576271
D37: 소계 | E37: =SUM(E34:E36) -> 1480000 | F37: =SUM(F34:F36) -> 79000 | G37: =F37/E37 -> 0.053378378 | H37: =F37-'[1]20210930'!F37 -> -69900
A38: 사업비 | B38: 사업비 | C38: 조직비 | D38: ◦ 지회별 노조원 단합비용 | E38: 2500000 | F38: =150000+214000+118400+120000+152000+70000+200000+243000+123000+100000+163000 -> 1653400 | G38: =F38/E38 -> 0.66136
D39: 소계 | E39: =SUM(E38:E38) -> 2500000 | F39: =SUM(F38) -> 1653400 | G39: =F39/E39 -> 0.66136 | H39: =F39-'[1]20210930'!F39 -> -768600
C40: 교육비 | D40: ◦ 교육비 | E40: 0 | G40: =F40/E40 -> #DIV/0!
D41: 소계 | E41: =SUM(E40) -> 0 | F41: =SUM(F40) -> 0 | G41: =F41/E41 -> #DIV/0! | H41: =F41-'[1]20210831'!F41 -> 0
C42: 행사비 | D42: ◦ 창립 기념 행사 | E42: 0 | G42: =F42/E42 -> #DIV/0!
D43: ◦ 노동조합출범식 등 | E43: 0 | G43: =F43/E43 -> #DIV/0!
D44: ◦ 직원자녀 장학금 | E44: 0 | G44: =F44/E44 -> #DIV/0!
D45: ◦ 명절선물비 | E45: 2000000 | F45: 1866540 | G45: =F45/E45 -> 0.93327 | H45: =F45-'[1]20210930'!F45 -> 689940
D46: ◦ 기타 행사비 | E46: 2000000 | G46: =F46/E46 -> 0
C47: 연대사업비 | D47: ◦ 연대 활동비 | E47: 400000 | G47: =F47/E47 -> 0
D48: 소계 | E48: =SUM(E42:E47) -> 4400000 | F48: =SUM(F42:F47) -> 1866540 | G48: =F48/E48 -> 0.42421364 | H48: =F48-'[1]20210930'!F47 -> 689940
B49: 업무추진비 | C49: 활동비 | D49: ◦ 위원장 활동비 | E49: 1000000 | F49: =60000+48000+50000+161000+19000+48000+13500+6300+41000 -> 446800 | G49: =F49/E49 -> 0.4468 | H49: =E49-F49 -> 553200
D50: ◦ 부위원장(수석) 활동비 | E50: 800000 | F50: =25000+74000+26700+24500+18000+23800+66000 -> 258000 | G50: =F50/E50 -> 0.3225 | H50: =E50-F50 -> 542000
D51: ◦ 대의원(대표위원) 활동비 | E51: 2750000 | G51: =F51/E51 -> 0
D52: 소계 | E52: =SUM(E49:E51) -> 4550000 | F52: =SUM(F49:F51) -> 704800 | G52: =F52/E52 -> 0.1549011 | H52: =E52-F52 -> 3845200
C53: 접대비 | D53: ◦ 대내.외 접대비 | E53: 400000 | F53: =125000+200000 -> 325000 | G53: =F53/E53 -> 0.8125 | H53: =E53-F53 -> 75000
D54: 소계 | E54: =SUM(E53) -> 400000 | F54: =SUM(F53) -> 325000 | G54: =F54/E54 -> 0.8125 | H54: =E54-F54 -> 75000
C55: 경조비 | D55: ◦ 대내-축하금 | E55: 2000000 | F55: =300000 -> 300000 | G55: =F55/E55 -> 0.15 | H55: =E55-F55 -> 1700000
D56: ◦ 대내-조의금 | E56: 2000000 | F56: 100000 | G56: =F56/E56 -> 0.05 | H56: =E56-F56 -> 1900000
D57: ◦ 노조원 출산등 축하용품 | E57: 300000 | F57: =190000 -> 190000 | G57: =F57/E57 -> 0.63333333 | H57: =E57-F57 -> 110000
D58: ◦ 노조원 퇴직(정년) 등 | E58: 0 | F58: 0 | G58: =F58/E58 -> #DIV/0! | H58: =E58-F58 -> 0
D59: ◦ 대외-축하 및 경조금 | E59: 1000000 | F59: 100000 | G59: =F59/E59 -> 0.1 | H59: =E59-F59 -> 900000
D60: ◦ 화환, 조화 등 구입비 | E60: 1000000 | F60: 54000 | G60: =F60/E60 -> 0.054 | H60: =E60-F60 -> 946000
D61: 소계 | E61: =SUM(E55:E60) -> 6300000 | F61: =SUM(F55:F60) -> 744000 | G61: =F61/E61 -> 0.11809524 | H61: =E61-F61 -> 5556000
A62: 특별회계 | B62: 특별기금 | D62: ◦ 특별기금 적립 | E62: 400000 | G62: =F62/E62 -> 0 | H62: =E62-F62 -> 400000
B63: 총회기금 | D63: ◦ 총회기금 적립 | E63: 800000 | G63: =F63/E63 -> 0
D64: 소계 | E64: =SUM(E62:E63) -> 1200000 | F64: =SUM(F62:F63) -> 0 | G64: =F64/E64 -> 0 | H64: =F64-'[1]20210930'!F63 -> -1500000
A65: 예비비 | B65: 예비비 | C65: 예비비 | D65: ◦ 예비비 | F65: 0 | G65: =F65/E65 -> #DIV/0!
A66: 적립금 | B66: 적립금 | C66: 이월적립금 | D66: ◦ 이월적립금 | E66: 0 | F66: 0
A67: 합계 | E67: =E17+E22+E28++E30+E33+E37+E39+E41+E48+E52+E54+E61+E64+E65 -> 31880000 | F67: =F17+F22+F28+F30+F33+F37+F39+F41+F48+F52+F54+F61+F64+F65 -> 9600840 | G67: =F67/E67 -> 0.30115558
A69: ♦ 2024년 1월말 예산현황
A70: 예산 | B70: 수입 | D70: 지출 | F70: 잔액 현황
B71: 수입액 | C71: 수입율 | D71: 지출액 | E71: 지출율 | F71: 잔액
A72: =E9 -> 31880000 | B72: =+F9 -> 16022656 | C72: =+G9 -> 0.50259272 | D72: =+F67 -> 9600840 | E72: =+G67 -> 0.30115558 | F72: =B72-D72 -> 6421816
